BEGIN:VCALENDAR
VERSION:2.0
PRODID:-//Abbey Pumping Station - ECPv6.15.20//NONSGML v1.0//EN
CALSCALE:GREGORIAN
METHOD:PUBLISH
X-WR-CALNAME:Abbey Pumping Station
X-ORIGINAL-URL:https://www.abbeypumpingstation.org
X-WR-CALDESC:Events for Abbey Pumping Station
REFRESH-INTERVAL;VALUE=DURATION:PT1H
X-Robots-Tag:noindex
X-PUBLISHED-TTL:PT1H
BEGIN:VTIMEZONE
TZID:Europe/London
BEGIN:DAYLIGHT
TZOFFSETFROM:+0000
TZOFFSETTO:+0100
TZNAME:BST
DTSTART:20250330T010000
END:DAYLIGHT
BEGIN:STANDARD
TZOFFSETFROM:+0100
TZOFFSETTO:+0000
TZNAME:GMT
DTSTART:20251026T010000
END:STANDARD
BEGIN:DAYLIGHT
TZOFFSETFROM:+0000
TZOFFSETTO:+0100
TZNAME:BST
DTSTART:20260329T010000
END:DAYLIGHT
BEGIN:STANDARD
TZOFFSETFROM:+0100
TZOFFSETTO:+0000
TZNAME:GMT
DTSTART:20261025T010000
END:STANDARD
BEGIN:DAYLIGHT
TZOFFSETFROM:+0000
TZOFFSETTO:+0100
TZNAME:BST
DTSTART:20270328T010000
END:DAYLIGHT
BEGIN:STANDARD
TZOFFSETFROM:+0100
TZOFFSETTO:+0000
TZNAME:GMT
DTSTART:20271031T010000
END:STANDARD
END:VTIMEZONE
BEGIN:VEVENT
DTSTART;TZID=Europe/London:20260217T113000
DTEND;TZID=Europe/London:20260217T160000
DTSTAMP:20260419T164244
CREATED:20260116T163343Z
LAST-MODIFIED:20260121T151247Z
UID:1357-1771327800-1771344000@www.abbeypumpingstation.org
SUMMARY:Half Term Railway Day
DESCRIPTION:The first outing of the Year for our Narrow-Gauge Railway. \n\n\n\nntrance to the museum is free. Train rides are £0.50 per person\, under 3 yrs travel for free. Get your ticket at the station\, pay with cash or pay by card. \n\n\n\nAt this event Peter the Simplex Diesel will be the engine running on the railway\, make sure you say hello to Peter and even get your photo taken with him! \n\n\n\nThere is a museum themed playground and sand pit for the children with seating located near by.  You can sit there with a snack and a drink from the ‘Switch Room’ Cafe\, located in the Beam Engine house. Pay with cash or pay by card. \n\n\n\nThere are also interactive exhibits that both children and adults can use in the Gallery.
URL:https://www.abbeypumpingstation.org/event/half-term-railway-day-2
ATTACH;FMTTYPE=image/jpeg:https://www.abbeypumpingstation.org/wp-content/uploads/2025/06/Diesel-Railway-Photo-1_1.jpg
END:VEVENT
BEGIN:VEVENT
DTSTART;TZID=Europe/London:20260222T120000
DTEND;TZID=Europe/London:20260222T163000
DTSTAMP:20260419T164244
CREATED:20260121T150533Z
LAST-MODIFIED:20260202T224526Z
UID:1360-1771761600-1771777800@www.abbeypumpingstation.org
SUMMARY:Steam Toys in Action
DESCRIPTION:This is our 36th year of this popular event – See our one of our Beam Engines in steam and enjoy the many miniature steam engines\, boats and trains on display \n\n\n\nAdmission Charges apply\, please click here for details \n\n\n\nLeicester’s only narrow gauge railway will be giving rides. Leonard our Steam Loco is out of service at the moment\, so the trains will be diesel-hauled. Train tickets are available at the station\, pay by cash or by card\, and at the Museum Reception\, pay by card. Tickets are £0.50 per person\, children under 3 years travel free.  \n\n\n\nEnjoy a hot cuppa and a cake in the LMTA café\, a perfect end to a perfect day. Please note the Cafe can now take card payments \n\n\n\nAll events may be subject to change without prior notice. All engines and working exhibits operate subject to availability and safe working.   \n\n\n\nCar parking is available on the National Space Centre Car park\, currently £4.00 per vehicle.
URL:https://www.abbeypumpingstation.org/event/steam-toys-in-action-2
ATTACH;FMTTYPE=image/jpeg:https://www.abbeypumpingstation.org/wp-content/uploads/2025/01/Steam-Toys-25.jpg
END:VEVENT
BEGIN:VEVENT
DTSTART;TZID=Europe/London:20260228T110000
DTEND;TZID=Europe/London:20260228T160000
DTSTAMP:20260419T164244
CREATED:20260116T163648Z
LAST-MODIFIED:20260121T151411Z
UID:1363-1772276400-1772294400@www.abbeypumpingstation.org
SUMMARY:Steam with the Team
DESCRIPTION:Admission to museum galleries is free but tours of the Beam Engine House is by ticket only.  \n\n\n\nMaximum group size per tour is 20 \n\n\n\nRecommended for those aged 10 years and above \n\n\n\nPlease click here for Ticket Prices \n\n\n\nTours start at 11.00am\, 12.15am\, 2.00pm\, 3.15pm and each take approximately one hour. This is your chance to question the tour guides on the engines and their function whilst walking round the whole Beam Engine House\, including the basement\, all whilst one of the engines is running. \n\n\n\nTo book tickets\, please click here
URL:https://www.abbeypumpingstation.org/event/steam-with-the-team-4
ATTACH;FMTTYPE=image/jpeg:https://www.abbeypumpingstation.org/wp-content/uploads/2024/03/IMG_4379.jpg
END:VEVENT
END:VCALENDAR