BEGIN:VCALENDAR
VERSION:2.0
PRODID:-//Abbey Pumping Station - ECPv6.15.20//NONSGML v1.0//EN
CALSCALE:GREGORIAN
METHOD:PUBLISH
X-WR-CALNAME:Abbey Pumping Station
X-ORIGINAL-URL:https://www.abbeypumpingstation.org
X-WR-CALDESC:Events for Abbey Pumping Station
REFRESH-INTERVAL;VALUE=DURATION:PT1H
X-Robots-Tag:noindex
X-PUBLISHED-TTL:PT1H
BEGIN:VTIMEZONE
TZID:Europe/London
BEGIN:DAYLIGHT
TZOFFSETFROM:+0000
TZOFFSETTO:+0100
TZNAME:BST
DTSTART:20240331T010000
END:DAYLIGHT
BEGIN:STANDARD
TZOFFSETFROM:+0100
TZOFFSETTO:+0000
TZNAME:GMT
DTSTART:20241027T010000
END:STANDARD
BEGIN:DAYLIGHT
TZOFFSETFROM:+0000
TZOFFSETTO:+0100
TZNAME:BST
DTSTART:20250330T010000
END:DAYLIGHT
BEGIN:STANDARD
TZOFFSETFROM:+0100
TZOFFSETTO:+0000
TZNAME:GMT
DTSTART:20251026T010000
END:STANDARD
BEGIN:DAYLIGHT
TZOFFSETFROM:+0000
TZOFFSETTO:+0100
TZNAME:BST
DTSTART:20260329T010000
END:DAYLIGHT
BEGIN:STANDARD
TZOFFSETFROM:+0100
TZOFFSETTO:+0000
TZNAME:GMT
DTSTART:20261025T010000
END:STANDARD
END:VTIMEZONE
BEGIN:VEVENT
DTSTART;TZID=Europe/London:20250405T113000
DTEND;TZID=Europe/London:20250405T160000
DTSTAMP:20260420T102324
CREATED:20250321T164403Z
LAST-MODIFIED:20250322T151726Z
UID:1145-1743852600-1743868800@www.abbeypumpingstation.org
SUMMARY:Railway Day with Models
DESCRIPTION:Have a wander around and see the models and railway layouts on display. \n\n\n\nEntrance to the museum is free. \n\n\n\nThe Narrow-Gauge Railway will be running\, with Leonard the Steam Loco in charge of the train. There is a small charge for train rides\, (£0.50 per person)\, children under 3 years can travel for free. \n\n\n\nYou can pay for your ride at the Station – cash only\, or you can buy a train ticket at Reception and pay by card. \n\n\n\nThere is a museum themed playground and sand pit for the children\, with seating located near by. You can sit with a snack and drink from the Switch Room Cafe\, located in the Beam Engine House. Cash only.
URL:https://www.abbeypumpingstation.org/event/railway-day-with-models-2
ATTACH;FMTTYPE=image/jpeg:https://www.abbeypumpingstation.org/wp-content/uploads/2025/02/DSC_0015_Small-scaled.jpeg
END:VEVENT
BEGIN:VEVENT
DTSTART;TZID=Europe/London:20250422T113000
DTEND;TZID=Europe/London:20250422T160000
DTSTAMP:20260420T102324
CREATED:20250321T164233Z
LAST-MODIFIED:20250322T151957Z
UID:1147-1745321400-1745337600@www.abbeypumpingstation.org
SUMMARY:Half Term Railway Day
DESCRIPTION:This event is an affordable day out with the children. \n\n\n\nEntrance to the museum is free. Train rides are £0.50 per person\, under 3 yrs travel for free. Get your ticket at the station\, cash only\, or go to Reception where you can pay by card.  \n\n\n\nAt this event Peter will be the engine running on the railway\, make sure you say hello to Peter and even get your photo taken with him! \n\n\n\nThere is a museum themed playground and sand pit as well for the children with seating located near by\, where you can sit with a snack and drink from the ‘Switch Room’ Cafe\, located in the Beam Engine house. There are also interactive exhibits that both children and adults can use in the Gallery.
URL:https://www.abbeypumpingstation.org/event/half-term-railway-day
ATTACH;FMTTYPE=image/jpeg:https://www.abbeypumpingstation.org/wp-content/uploads/2024/04/Diesel-Railway-Photo-2.jpg
END:VEVENT
END:VCALENDAR