BEGIN:VCALENDAR
VERSION:2.0
PRODID:-//Abbey Pumping Station - ECPv6.15.20//NONSGML v1.0//EN
CALSCALE:GREGORIAN
METHOD:PUBLISH
X-WR-CALNAME:Abbey Pumping Station
X-ORIGINAL-URL:https://www.abbeypumpingstation.org
X-WR-CALDESC:Events for Abbey Pumping Station
REFRESH-INTERVAL;VALUE=DURATION:PT1H
X-Robots-Tag:noindex
X-PUBLISHED-TTL:PT1H
BEGIN:VTIMEZONE
TZID:Europe/London
BEGIN:DAYLIGHT
TZOFFSETFROM:+0000
TZOFFSETTO:+0100
TZNAME:BST
DTSTART:20230326T010000
END:DAYLIGHT
BEGIN:STANDARD
TZOFFSETFROM:+0100
TZOFFSETTO:+0000
TZNAME:GMT
DTSTART:20231029T010000
END:STANDARD
BEGIN:DAYLIGHT
TZOFFSETFROM:+0000
TZOFFSETTO:+0100
TZNAME:BST
DTSTART:20240331T010000
END:DAYLIGHT
BEGIN:STANDARD
TZOFFSETFROM:+0100
TZOFFSETTO:+0000
TZNAME:GMT
DTSTART:20241027T010000
END:STANDARD
BEGIN:DAYLIGHT
TZOFFSETFROM:+0000
TZOFFSETTO:+0100
TZNAME:BST
DTSTART:20250330T010000
END:DAYLIGHT
BEGIN:STANDARD
TZOFFSETFROM:+0100
TZOFFSETTO:+0000
TZNAME:GMT
DTSTART:20251026T010000
END:STANDARD
END:VTIMEZONE
BEGIN:VEVENT
DTSTART;TZID=Europe/London:20241005T113000
DTEND;TZID=Europe/London:20241005T163000
DTSTAMP:20260420T195429
CREATED:20240914T140033Z
LAST-MODIFIED:20240914T144854Z
UID:1050-1728127800-1728145800@www.abbeypumpingstation.org
SUMMARY:Railway Day with Models
DESCRIPTION:Have a wander around and see the models and railway layouts on display. \n\n\n\nEntrance to the museum is free. \n\n\n\nThe Narrow-Gauge Railway will be running\, with Leonard the Steam Loco in charge of the train. There is a small charge for train rides\, (£0.50 per person)\, children under 3 years can travel for free. \n\n\n\nYou can pay for your ride at the Station – cash only\, or you can buy a train ticket at Reception and pay by card. \n\n\n\nThere is a museum themed playground and sand pit for the children\, with seating located near by. You can sit with a snack and drink from the Switch Room Cafe\, located in the Beam Engine House. Cash only.
URL:https://www.abbeypumpingstation.org/event/railway-day-with-models
ATTACH;FMTTYPE=image/jpeg:https://www.abbeypumpingstation.org/wp-content/uploads/2024/09/Modelling.jpg
END:VEVENT
BEGIN:VEVENT
DTSTART;TZID=Europe/London:20241022T113000
DTEND;TZID=Europe/London:20241022T160000
DTSTAMP:20260420T195429
CREATED:20240910T140051Z
LAST-MODIFIED:20240914T143045Z
UID:347-1729596600-1729612800@www.abbeypumpingstation.org
SUMMARY:Half Term Railway Day
DESCRIPTION:‘Peter’ the engine\n\n\n\nAt this event Peter will be the engine running on the railway\, make sure you say hello to Peter and even get your photo taken with him! \n\n\n\nThis event is an affordable day out with the children. \n\n\n\nEntrance to the museum is free. Train rides are £0.50 per person\, under 3 yrs travel for free. Get your ticket at the station\, cash only\, or go to Reception where you can pay by card.  \n\n\n\nThere is a museum themed playground and sand pit as well for the children with seating located near by\, where you can sit with a snack and drink from the ‘Switch Room’ Cafe\, located in the Beam Engine house. There are also interactive exhibits that both children and adults can use in the Gallery.
URL:https://www.abbeypumpingstation.org/event/half-term-railway-day-3
ATTACH;FMTTYPE=image/jpeg:https://www.abbeypumpingstation.org/wp-content/uploads/2023/01/Screenshot_20230129_164140_Microsoft-365-Office.jpg
END:VEVENT
BEGIN:VEVENT
DTSTART;TZID=Europe/London:20241026T110000
DTEND;TZID=Europe/London:20241026T150000
DTSTAMP:20260420T195429
CREATED:20231129T110052Z
LAST-MODIFIED:20240319T152813Z
UID:377-1729940400-1729954800@www.abbeypumpingstation.org
SUMMARY:Steam with the Team
DESCRIPTION:Saturday 26th October 2024 \n\n\n\nAdmission to museum galleries is free but tours of the Beam Engine House is by ticket only. \n\n\n\n Maximum group size per tour is 20. Recommended for those aged 10 years and above. \n\n\n\nPlease click here for Ticket Prices \n\n\n\nTours start at 11.00am\, 12.15pm\, 2.00pm and 3.15pm and each take approximately one hour. This is your chance to question the tour guides on the engines and their function whilst walking round the whole Beam Engine House\, including the basement\, all whilst one of the engines is running. \n\n\n\nTo book tickets\, please click here
URL:https://www.abbeypumpingstation.org/event/steam-with-the-team-10
ATTACH;FMTTYPE=image/jpeg:https://www.abbeypumpingstation.org/wp-content/uploads/2024/03/IMG_4379.jpg
END:VEVENT
END:VCALENDAR