BEGIN:VCALENDAR
VERSION:2.0
PRODID:-//Abbey Pumping Station - ECPv6.15.20//NONSGML v1.0//EN
CALSCALE:GREGORIAN
METHOD:PUBLISH
X-WR-CALNAME:Abbey Pumping Station
X-ORIGINAL-URL:https://www.abbeypumpingstation.org
X-WR-CALDESC:Events for Abbey Pumping Station
REFRESH-INTERVAL;VALUE=DURATION:PT1H
X-Robots-Tag:noindex
X-PUBLISHED-TTL:PT1H
BEGIN:VTIMEZONE
TZID:Europe/London
BEGIN:DAYLIGHT
TZOFFSETFROM:+0000
TZOFFSETTO:+0100
TZNAME:BST
DTSTART:20230326T010000
END:DAYLIGHT
BEGIN:STANDARD
TZOFFSETFROM:+0100
TZOFFSETTO:+0000
TZNAME:GMT
DTSTART:20231029T010000
END:STANDARD
BEGIN:DAYLIGHT
TZOFFSETFROM:+0000
TZOFFSETTO:+0100
TZNAME:BST
DTSTART:20240331T010000
END:DAYLIGHT
BEGIN:STANDARD
TZOFFSETFROM:+0100
TZOFFSETTO:+0000
TZNAME:GMT
DTSTART:20241027T010000
END:STANDARD
BEGIN:DAYLIGHT
TZOFFSETFROM:+0000
TZOFFSETTO:+0100
TZNAME:BST
DTSTART:20250330T010000
END:DAYLIGHT
BEGIN:STANDARD
TZOFFSETFROM:+0100
TZOFFSETTO:+0000
TZNAME:GMT
DTSTART:20251026T010000
END:STANDARD
END:VTIMEZONE
BEGIN:VEVENT
DTSTART;TZID=Europe/London:20240706T113000
DTEND;TZID=Europe/London:20240706T160000
DTSTAMP:20260421T002553
CREATED:20240520T150052Z
LAST-MODIFIED:20240628T140149Z
UID:351-1720265400-1720281600@www.abbeypumpingstation.org
SUMMARY:Railway Day with Meccano
DESCRIPTION:Magnificent Meccano\n\n\n\n \n\n\n\nMeccano modellers get busy!  Be inspired by modellers of all ages\, building models large and small.  \n\n\n\nEntrance to the museum is free. \n\n\n\nThe Narrow-Gauge Railway will be running\, with Leonard the Steam Loco in charge of the train. There is a small charge for train rides\, (£0.50 per person)\, children under 3 years can travel for free. \n\n\n\nYou can pay for your ride at the Station – cash only\, or you can buy a train ticket at Reception and pay by card. \n\n\n\nThere is a museum themed playground and sand pit for the children\, with seating located near by. You can sit with a snack and drink from the Switch Room Cafe\, located in the Beam Engine House. Cash only. \n\n\n\nCar Parking is available on the National Space Centre Car Park\, currently £4.00 per vehicle. \n\n\n\nAll Engines and Working Exhibits are subject to availability and safe working.
URL:https://www.abbeypumpingstation.org/event/railway-day-with-meccano
ATTACH;FMTTYPE=image/jpeg:https://www.abbeypumpingstation.org/wp-content/uploads/2024/04/Meccano.jpg
END:VEVENT
BEGIN:VEVENT
DTSTART;TZID=Europe/London:20240716T113000
DTEND;TZID=Europe/London:20240730T160000
DTSTAMP:20260421T002553
CREATED:20240411T150055Z
LAST-MODIFIED:20240627T135805Z
UID:345-1721129400-1722355200@www.abbeypumpingstation.org
SUMMARY:Holiday Railway Days in July
DESCRIPTION:Every Tuesday from July 16 to July 30\, the Narrow Gauge Railway will be running. \n\n\n\nAdmission to the Museum site is free. \n\n\n\nTrains operate between 11:30 AM and 4:00 PM. There is a small charge for train rides\, currently £0.50. Under 3 years old can travel for free. You can pay for your ride at the Station – cash only\, or you can buy a train ticket at Reception and pay by card.
URL:https://www.abbeypumpingstation.org/event/holiday-railway-day-4
END:VEVENT
END:VCALENDAR