BEGIN:VCALENDAR
VERSION:2.0
PRODID:-//Abbey Pumping Station - ECPv6.15.20//NONSGML v1.0//EN
CALSCALE:GREGORIAN
METHOD:PUBLISH
X-WR-CALNAME:Abbey Pumping Station
X-ORIGINAL-URL:https://www.abbeypumpingstation.org
X-WR-CALDESC:Events for Abbey Pumping Station
REFRESH-INTERVAL;VALUE=DURATION:PT1H
X-Robots-Tag:noindex
X-PUBLISHED-TTL:PT1H
BEGIN:VTIMEZONE
TZID:Europe/London
BEGIN:DAYLIGHT
TZOFFSETFROM:+0000
TZOFFSETTO:+0100
TZNAME:BST
DTSTART:20220327T010000
END:DAYLIGHT
BEGIN:STANDARD
TZOFFSETFROM:+0100
TZOFFSETTO:+0000
TZNAME:GMT
DTSTART:20221030T010000
END:STANDARD
BEGIN:DAYLIGHT
TZOFFSETFROM:+0000
TZOFFSETTO:+0100
TZNAME:BST
DTSTART:20230326T010000
END:DAYLIGHT
BEGIN:STANDARD
TZOFFSETFROM:+0100
TZOFFSETTO:+0000
TZNAME:GMT
DTSTART:20231029T010000
END:STANDARD
BEGIN:DAYLIGHT
TZOFFSETFROM:+0000
TZOFFSETTO:+0100
TZNAME:BST
DTSTART:20240331T010000
END:DAYLIGHT
BEGIN:STANDARD
TZOFFSETFROM:+0100
TZOFFSETTO:+0000
TZNAME:GMT
DTSTART:20241027T010000
END:STANDARD
BEGIN:DAYLIGHT
TZOFFSETFROM:+0000
TZOFFSETTO:+0100
TZNAME:BST
DTSTART:20250330T010000
END:DAYLIGHT
BEGIN:STANDARD
TZOFFSETFROM:+0100
TZOFFSETTO:+0000
TZNAME:GMT
DTSTART:20251026T010000
END:STANDARD
END:VTIMEZONE
BEGIN:VTIMEZONE
TZID:UTC
BEGIN:STANDARD
TZOFFSETFROM:+0000
TZOFFSETTO:+0000
TZNAME:UTC
DTSTART:20230101T000000
END:STANDARD
END:VTIMEZONE
BEGIN:VTIMEZONE
TZID:UTC
BEGIN:STANDARD
TZOFFSETFROM:+0000
TZOFFSETTO:+0000
TZNAME:UTC
DTSTART:20230101T000000
END:STANDARD
END:VTIMEZONE
BEGIN:VEVENT
DTSTART;TZID=Europe/London:20240818T120000
DTEND;TZID=Europe/London:20240818T163000
DTSTAMP:20260420T061216
CREATED:20240710T140001Z
LAST-MODIFIED:20240816T122019Z
UID:365-1723982400-1723998600@www.abbeypumpingstation.org
SUMMARY:Summer Family Fun Day
DESCRIPTION:We will be open on Sunday\, despite the Road Closure. Access via the Space Centre to the APS Main Gate. \n\n\n\nRoad Closures:     A6 Abbey Lane (Inbound) – (Including Corporation Road – between Wade Street & Sudeley Avenue)\, works to take place between 15/08/2024 – 18/08/2024. \n\n\n\n\nThe A6 Abbey Lane will be closed to all traffic with no through route towards Abbey Park Road.\n\n\n\nThere will be no right turn access to Beaumont Leys Lane for Abbey Lane.\n\n\n\nThere will be no left turn access to Corporation Road or Beaumanor Road.\n\n\n\nAppropriate diversions will be clearly signed.\n\n\n\n\nA day out for all the family. Abbey Pumping Station is hosting a number of stalls and exhibits\, something of interest for all the family. \n\n\n\nAdmission Charges apply\, please click here for details \n\n\n\nThe Narrow Gauge Railway will be running\, with Leonard the Steam Loco at work. There is a small charge for rides\, £0.50 per person\, but children under 3 years can travel for free. You can get your ticket at the Station\, cash only\, or at Reception where you can pay by card.  \n\n\n\nHere are just a few of the many things happening\, come and have a look around \n\n\n\n\n\nReal Fruit Machine!\n\n\n\n\n\nSmashing !!
URL:https://www.abbeypumpingstation.org/event/summer-family-fun-day
ATTACH;FMTTYPE=image/jpeg:https://www.abbeypumpingstation.org/wp-content/uploads/2024/06/Summer-Fun-Day.jpg
END:VEVENT
BEGIN:VEVENT
DTSTART;TZID=Europe/London:20240806T113000
DTEND;TZID=Europe/London:20240820T160000
DTSTAMP:20260420T061216
CREATED:20240412T150030Z
LAST-MODIFIED:20240627T135827Z
UID:361-1722943800-1724169600@www.abbeypumpingstation.org
SUMMARY:Holiday Railway Days in August
DESCRIPTION:Every Tuesday from August 6 to August 20\, the Narrow Gauge Railway will be running. \n\n\n\nAdmission to the Museum site is free. \n\n\n\nTrains operate between 11:30 AM and 4:00 PM. There is a small charge for train rides\, currently £0.50. Under 3 years old can travel for free.  You can pay for your ride at the Station – cash only\, or you can buy a train ticket at Reception and pay by card.
URL:https://www.abbeypumpingstation.org/event/holiday-railway-day-8
END:VEVENT
BEGIN:VEVENT
DTSTART;TZID=Europe/London:20240716T113000
DTEND;TZID=Europe/London:20240730T160000
DTSTAMP:20260420T061216
CREATED:20240411T150055Z
LAST-MODIFIED:20240627T135805Z
UID:345-1721129400-1722355200@www.abbeypumpingstation.org
SUMMARY:Holiday Railway Days in July
DESCRIPTION:Every Tuesday from July 16 to July 30\, the Narrow Gauge Railway will be running. \n\n\n\nAdmission to the Museum site is free. \n\n\n\nTrains operate between 11:30 AM and 4:00 PM. There is a small charge for train rides\, currently £0.50. Under 3 years old can travel for free. You can pay for your ride at the Station – cash only\, or you can buy a train ticket at Reception and pay by card.
URL:https://www.abbeypumpingstation.org/event/holiday-railway-day-4
END:VEVENT
BEGIN:VEVENT
DTSTART;TZID=Europe/London:20240706T113000
DTEND;TZID=Europe/London:20240706T160000
DTSTAMP:20260420T061216
CREATED:20240520T150052Z
LAST-MODIFIED:20240628T140149Z
UID:351-1720265400-1720281600@www.abbeypumpingstation.org
SUMMARY:Railway Day with Meccano
DESCRIPTION:Magnificent Meccano\n\n\n\n \n\n\n\nMeccano modellers get busy!  Be inspired by modellers of all ages\, building models large and small.  \n\n\n\nEntrance to the museum is free. \n\n\n\nThe Narrow-Gauge Railway will be running\, with Leonard the Steam Loco in charge of the train. There is a small charge for train rides\, (£0.50 per person)\, children under 3 years can travel for free. \n\n\n\nYou can pay for your ride at the Station – cash only\, or you can buy a train ticket at Reception and pay by card. \n\n\n\nThere is a museum themed playground and sand pit for the children\, with seating located near by. You can sit with a snack and drink from the Switch Room Cafe\, located in the Beam Engine House. Cash only. \n\n\n\nCar Parking is available on the National Space Centre Car Park\, currently £4.00 per vehicle. \n\n\n\nAll Engines and Working Exhibits are subject to availability and safe working.
URL:https://www.abbeypumpingstation.org/event/railway-day-with-meccano
ATTACH;FMTTYPE=image/jpeg:https://www.abbeypumpingstation.org/wp-content/uploads/2024/04/Meccano.jpg
END:VEVENT
BEGIN:VEVENT
DTSTART;TZID=Europe/London:20240608T113000
DTEND;TZID=Europe/London:20240608T160000
DTSTAMP:20260420T061216
CREATED:20240512T150009Z
LAST-MODIFIED:20240522T155529Z
UID:349-1717846200-1717862400@www.abbeypumpingstation.org
SUMMARY:Railway Day with Teddies
DESCRIPTION:Bears in Charge\n\n\n\nBear Picnic\n\n\n\n \n\n\n\nIt’s a Teddy takeover! Have a look at where the Teddies have got to\, you might be surprised. \n\n\n\n \n\n\n\n \n\n\n\nEntrance to the museum is free. \n\n\n\nThe Narrow-gauge Railway will be running\, with one of our IC locos in charge.  Which one? Come and find out. There is a small charge for train rides (£0.50\, children under 3 years are free. Cash only. That is unless you bring your own special little friend\, then you can travel for free! \n\n\n\nThere is a museum-themed playground and sand pit for the children\, with seating located near by. You can sit with a snack and drink from the Switch Room Cafe\, located in the Beam Engine House. Cash only. \n\n\n\nCar Parking is available on the National Space Centre Car Park\, currently £4.00 per vehicle. \n\n\n\nAll Engines and Working Exhibits are subject to availability and safe working.
URL:https://www.abbeypumpingstation.org/event/railway-day-with-teddies
ATTACH;FMTTYPE=image/jpeg:https://www.abbeypumpingstation.org/wp-content/uploads/2024/05/Bears-in-charge.jpg
END:VEVENT
BEGIN:VEVENT
DTSTART;TZID=Europe/London:20240528T110000
DTEND;TZID=Europe/London:20240528T160000
DTSTAMP:20260420T061216
CREATED:20240301T160016Z
LAST-MODIFIED:20240522T160714Z
UID:371-1716894000-1716912000@www.abbeypumpingstation.org
SUMMARY:Half Term Railway Day
DESCRIPTION:‘Peter’ the Simplex Engine\n\n\n\nAt this event Peter will be the engine running on the railway\, make sure you say hello to Peter and even get your photo taken with him! \n\n\n\nEntrance to the museum is free. \n\n\n\nThere is a small charge for train rides (£0.50)\, children under 3 years are free. Cash only. \n\n\n\nThere is a museum themed playground and sand pit for the children\, with seating located near by. You can sit with a snack and drink from the Switch Room Cafe\, located in the Beam Engine House. Cash only. \n\n\n\nCar Parking is available on the National Space Centre Car Park\, currently £4.00 per vehicle. \n\n\n\nAll Engines and Working Exhibits are subject to availability and safe working.
URL:https://www.abbeypumpingstation.org/event/half-term-railway-day-4
ATTACH;FMTTYPE=image/jpeg:https://www.abbeypumpingstation.org/wp-content/uploads/2024/04/Diesel-Railway-Photo-2.jpg
END:VEVENT
BEGIN:VEVENT
DTSTART;TZID=Europe/London:20240512T120000
DTEND;TZID=Europe/London:20240512T163000
DTSTAMP:20260420T061216
CREATED:20240301T160005Z
LAST-MODIFIED:20240414T154220Z
UID:82-1715515200-1715531400@www.abbeypumpingstation.org
SUMMARY:Emergency Services Day
DESCRIPTION:Come and see emergency vehicles from the past and the present. Try on some firemen’s uniforms for a photo opportunity and have a go with a stirrup pump. \n\n\nAdmission Charges apply\, please click here for details \n\n\nThe Narrow Gauge Railway will be running\, with Leonard in Steam. There is a small charge for train rides (£0.50)\, children under 3 years are free. Cash only. \n\n\n\nThe Switch Room Cafe will be open for light refreshments.  Cash only. \n\n\n\nBring your own picnic and enjoy your day\, our picnic tables are distributed around the grounds. The Museum themed playground and sandpit are nearby. \n\n\n\nCar Parking is available on the National Space Centre Car Park\, currently £4.00 per vehicle. \n\n\n\nAll Engines and Working Exhibits are subject to availability and safe working.
URL:https://www.abbeypumpingstation.org/event/emergency-services-day
ATTACH;FMTTYPE=image/jpeg:https://www.abbeypumpingstation.org/wp-content/uploads/2024/04/EMS-web-24-scaled.jpg
END:VEVENT
BEGIN:VEVENT
DTSTART;TZID=Europe/London:20240406T113000
DTEND;TZID=Europe/London:20240406T160000
DTSTAMP:20260420T061216
CREATED:20240301T160032Z
LAST-MODIFIED:20240323T125557Z
UID:369-1712403000-1712419200@www.abbeypumpingstation.org
SUMMARY:Railway Gala with Models
DESCRIPTION:Our Narrow-gauge railway will be running\, come and have a look which of our four ICC engines could be operating – there might even be more than one.  Will Leonard be in steam as well?  Come and find out. \n\n\n\n\n\n\n\n \n\n\n\nWander around the marquee and see the models and railway layouts on display. \n\n\nEntrance to the museum is free. \n\n\nThere is a small charge for Train Rides (£0.50)\, Children under 3 years are free.  Cash only.  \n\n\n\nThe Switch Room Cafe will be open for light refreshments\, cash only. \n\n\n\nCar Parking is available on the National Space Centre Car Park\, currently £4.00 per vehicle. \n\n\n\nAll events may be subject to change without prior notice. All engines and working exhibits operate subject to availability and safe working.  
URL:https://www.abbeypumpingstation.org/event/railway-gala-with-models-2
ATTACH;FMTTYPE=image/jpeg:https://www.abbeypumpingstation.org/wp-content/uploads/2024/03/Gala-4.jpg
END:VEVENT
BEGIN:VEVENT
DTSTART;TZID=Europe/London:20240402T113000
DTEND;TZID=Europe/London:20240402T160000
DTSTAMP:20260420T061216
CREATED:20240301T160015Z
LAST-MODIFIED:20240307T164241Z
UID:363-1712057400-1712073600@www.abbeypumpingstation.org
SUMMARY:Holiday Railway Day
DESCRIPTION:Peter the Simplex Engine\n\n\n\nAt this event Peter could be the engine running on the railway\, make sure you come and have a look which one of our engines is running and maybe have a picture taken. \n\n\n\nEntrance to the museum is free. \n\n\n\nThere is a small charge for train rides (£0.50)\, children under 3 years are free.  Cash only.   \n\n\n\nThere is a museum-themed playground and sand pit for the children\, with seating located near by. Here you can sit with a snack and drink from the “Switch Room Cafe” located in the Beam Engine House. There are also interactive exhibits that both children and adults can use. \n\n\n\nAll Engines and working exhibits are subject to availability and weather.
URL:https://www.abbeypumpingstation.org/event/holiday-railway-day-9
ATTACH;FMTTYPE=image/jpeg:https://www.abbeypumpingstation.org/wp-content/uploads/2023/01/Screenshot_20230129_164140_Microsoft-365-Office.jpg
END:VEVENT
BEGIN:VEVENT
DTSTART;TZID=UTC:20240323T110000
DTEND;TZID=UTC:20240323T150000
DTSTAMP:20260420T061216
CREATED:20231129T110034Z
LAST-MODIFIED:20240317T162510Z
UID:272-1711191600-1711206000@www.abbeypumpingstation.org
SUMMARY:Steam with the Team
DESCRIPTION:Saturday 23rd March 2024 \n\n\n\nAdmission to museum galleries is free but tours of the Beam Engine House is by ticket only.    \n\n\n\nMaximum group size per tour is 20 \n\n\n\nRecommended for those aged 10 years and above \n\n\nPlease click here for Ticket Prices \n\n\nTours start at 11.00am\, 12.15am\, 2.00pm\, 3.15pm and each take approximately one hour. This is your chance to question the tour guides on the engines and their function whilst walking round the whole Beam Engine House\, including the basement\, all whilst one of the engines is running. \n\n\nTo book tickets\, please click here
URL:https://www.abbeypumpingstation.org/event/steam-with-the-team-7
ATTACH;FMTTYPE=image/jpeg:https://www.abbeypumpingstation.org/wp-content/uploads/2024/03/IMG_4375.jpg
END:VEVENT
BEGIN:VEVENT
DTSTART;TZID=UTC:20240303T120000
DTEND;TZID=UTC:20240303T163000
DTSTAMP:20260420T061216
CREATED:20240113T160000Z
LAST-MODIFIED:20240227T154017Z
UID:52-1709467200-1709483400@www.abbeypumpingstation.org
SUMMARY:Steam Toys in Action
DESCRIPTION:This is our 34th year of this popular event – See our one of our Beam Engines in steam and enjoy the many miniature steam engines\, boats and trains on display \nAdmission Charges apply\, please click here for details \nLeicester’s only narrow gauge railway will be giving rides. Enjoy a hot cuppa and a cake in the LMTA café\, a perfect end to a perfect day. There is a small charge (£0.50) for train rides.  Both Café and train rides are cash only.   \nAll events may be subject to change without prior notice. All engines and working exhibits operate subject to availability and safe working.   \nCar parking is available on the National Space Centre Car park\, currently £4.00 per vehicle. \nClick here to contact the Organiser for an Exhibitor Entry form
URL:https://www.abbeypumpingstation.org/event/steam-toys-in-action-4
ATTACH;FMTTYPE=image/jpeg:https://www.abbeypumpingstation.org/wp-content/uploads/2024/01/DSC0591-scaled.jpg
END:VEVENT
BEGIN:VEVENT
DTSTART;TZID=Europe/London:20240220T113000
DTEND;TZID=Europe/London:20240220T160000
DTSTAMP:20260420T061216
CREATED:20240105T120007Z
LAST-MODIFIED:20250104T164735Z
UID:373-1708428600-1708444800@www.abbeypumpingstation.org
SUMMARY:Half Term Railway Day
DESCRIPTION:‘Peter’ the engine\n\n\n\nAt this event Peter will be the engine running on the railway\, make sure you say “hello” to Peter and even get your photo taken with him! \n\n\n\nThis event is an affordable day out with the children.  Entrance to the museum is free. \n\n\n\nTrain rides are 50p per person. Cash only.   \n\n\n\nThere is a museum-themed playground and sand pit for the children\, with seating located near by\, where you can sit with a snack and drink from the “Switch Room Cafe” located in the Beam Engine House. There are also interactive exhibits that both children and adults can use.
URL:https://www.abbeypumpingstation.org/event/half-term-railway-day-5
ATTACH;FMTTYPE=image/jpeg:https://www.abbeypumpingstation.org/wp-content/uploads/2023/01/Screenshot_20230129_164140_Microsoft-365-Office.jpg
END:VEVENT
BEGIN:VEVENT
DTSTART;TZID=Europe/London:20230305T120000
DTEND;TZID=Europe/London:20230305T163000
DTSTAMP:20260420T061216
CREATED:20230121T104238Z
LAST-MODIFIED:20230129T170748Z
UID:336-1678017600-1678033800@www.abbeypumpingstation.org
SUMMARY:Steam Toys in Action
DESCRIPTION:Models from previous years\n\n\n\nThis is the 33rd year of this event running.  \n\n\n\nAt this event you can see models of Mamods\, Wilescos and many more. Also our outside pond will be exhibiting Model steam boats. \n\n\n\nAt Steam Toys in Action we have trader stalls where you will be able to purchase your own model or parts for one you may already have. \n\n\n\nThe beam engines will be running for this event\, in the main building which is also where our interactive exhibits and displays are. There will also be museum vehicles around the site\, great for photo opportunities as long as you look but don’t touch. One of the museum vehicles is a coal fired chip van which will be selling chips. \n\n\n\nLight refreshments will be served in the ‘Switch Room’ cafe \n\n\n\nAnd if thats not enough to keep you busy we will also be running the steam narrow gauge and small train on the railway with rides for all!
URL:https://www.abbeypumpingstation.org/event/steam-toys-in-action-3
ATTACH;FMTTYPE=image/jpeg:https://www.abbeypumpingstation.org/wp-content/uploads/2023/01/Screenshot_20230129_170605_Microsoft-365-Office.jpg
END:VEVENT
END:VCALENDAR