BEGIN:VCALENDAR
VERSION:2.0
PRODID:-//Abbey Pumping Station - ECPv6.15.20//NONSGML v1.0//EN
CALSCALE:GREGORIAN
METHOD:PUBLISH
X-ORIGINAL-URL:https://www.abbeypumpingstation.org
X-WR-CALDESC:Events for Abbey Pumping Station
REFRESH-INTERVAL;VALUE=DURATION:PT1H
X-Robots-Tag:noindex
X-PUBLISHED-TTL:PT1H
BEGIN:VTIMEZONE
TZID:Europe/London
BEGIN:DAYLIGHT
TZOFFSETFROM:+0000
TZOFFSETTO:+0100
TZNAME:BST
DTSTART:20250330T010000
END:DAYLIGHT
BEGIN:STANDARD
TZOFFSETFROM:+0100
TZOFFSETTO:+0000
TZNAME:GMT
DTSTART:20251026T010000
END:STANDARD
BEGIN:DAYLIGHT
TZOFFSETFROM:+0000
TZOFFSETTO:+0100
TZNAME:BST
DTSTART:20260329T010000
END:DAYLIGHT
BEGIN:STANDARD
TZOFFSETFROM:+0100
TZOFFSETTO:+0000
TZNAME:GMT
DTSTART:20261025T010000
END:STANDARD
BEGIN:DAYLIGHT
TZOFFSETFROM:+0000
TZOFFSETTO:+0100
TZNAME:BST
DTSTART:20270328T010000
END:DAYLIGHT
BEGIN:STANDARD
TZOFFSETFROM:+0100
TZOFFSETTO:+0000
TZNAME:GMT
DTSTART:20271031T010000
END:STANDARD
END:VTIMEZONE
BEGIN:VEVENT
DTSTART;TZID=Europe/London:20260217T113000
DTEND;TZID=Europe/London:20260217T160000
DTSTAMP:20260420T084608
CREATED:20260116T163343Z
LAST-MODIFIED:20260121T151247Z
UID:1357-1771327800-1771344000@www.abbeypumpingstation.org
SUMMARY:Half Term Railway Day
DESCRIPTION:The first outing of the Year for our Narrow-Gauge Railway. \n\n\n\nntrance to the museum is free. Train rides are £0.50 per person\, under 3 yrs travel for free. Get your ticket at the station\, pay with cash or pay by card. \n\n\n\nAt this event Peter the Simplex Diesel will be the engine running on the railway\, make sure you say hello to Peter and even get your photo taken with him! \n\n\n\nThere is a museum themed playground and sand pit for the children with seating located near by.  You can sit there with a snack and a drink from the ‘Switch Room’ Cafe\, located in the Beam Engine house. Pay with cash or pay by card. \n\n\n\nThere are also interactive exhibits that both children and adults can use in the Gallery.
URL:https://www.abbeypumpingstation.org/event/half-term-railway-day-2
ATTACH;FMTTYPE=image/jpeg:https://www.abbeypumpingstation.org/wp-content/uploads/2025/06/Diesel-Railway-Photo-1_1.jpg
END:VEVENT
BEGIN:VEVENT
DTSTART;TZID=Europe/London:20260222T120000
DTEND;TZID=Europe/London:20260222T163000
DTSTAMP:20260420T084608
CREATED:20260121T150533Z
LAST-MODIFIED:20260202T224526Z
UID:1360-1771761600-1771777800@www.abbeypumpingstation.org
SUMMARY:Steam Toys in Action
DESCRIPTION:This is our 36th year of this popular event – See our one of our Beam Engines in steam and enjoy the many miniature steam engines\, boats and trains on display \n\n\n\nAdmission Charges apply\, please click here for details \n\n\n\nLeicester’s only narrow gauge railway will be giving rides. Leonard our Steam Loco is out of service at the moment\, so the trains will be diesel-hauled. Train tickets are available at the station\, pay by cash or by card\, and at the Museum Reception\, pay by card. Tickets are £0.50 per person\, children under 3 years travel free.  \n\n\n\nEnjoy a hot cuppa and a cake in the LMTA café\, a perfect end to a perfect day. Please note the Cafe can now take card payments \n\n\n\nAll events may be subject to change without prior notice. All engines and working exhibits operate subject to availability and safe working.   \n\n\n\nCar parking is available on the National Space Centre Car park\, currently £4.00 per vehicle.
URL:https://www.abbeypumpingstation.org/event/steam-toys-in-action-2
ATTACH;FMTTYPE=image/jpeg:https://www.abbeypumpingstation.org/wp-content/uploads/2025/01/Steam-Toys-25.jpg
END:VEVENT
BEGIN:VEVENT
DTSTART;TZID=Europe/London:20260228T110000
DTEND;TZID=Europe/London:20260228T160000
DTSTAMP:20260420T084608
CREATED:20260116T163648Z
LAST-MODIFIED:20260121T151411Z
UID:1363-1772276400-1772294400@www.abbeypumpingstation.org
SUMMARY:Steam with the Team
DESCRIPTION:Admission to museum galleries is free but tours of the Beam Engine House is by ticket only.  \n\n\n\nMaximum group size per tour is 20 \n\n\n\nRecommended for those aged 10 years and above \n\n\n\nPlease click here for Ticket Prices \n\n\n\nTours start at 11.00am\, 12.15am\, 2.00pm\, 3.15pm and each take approximately one hour. This is your chance to question the tour guides on the engines and their function whilst walking round the whole Beam Engine House\, including the basement\, all whilst one of the engines is running. \n\n\n\nTo book tickets\, please click here
URL:https://www.abbeypumpingstation.org/event/steam-with-the-team-4
ATTACH;FMTTYPE=image/jpeg:https://www.abbeypumpingstation.org/wp-content/uploads/2024/03/IMG_4379.jpg
END:VEVENT
BEGIN:VEVENT
DTSTART;TZID=Europe/London:20260328T110000
DTEND;TZID=Europe/London:20260328T160000
DTSTAMP:20260420T084608
CREATED:20260121T151122Z
LAST-MODIFIED:20260121T151502Z
UID:1408-1774695600-1774713600@www.abbeypumpingstation.org
SUMMARY:Steam with the Team
DESCRIPTION:Admission to museum galleries is free but tours of the Beam Engine House is by ticket only.  \n\n\n\nMaximum group size per tour is 20 \n\n\n\nRecommended for those aged 10 years and above \n\n\n\nPlease click here for Ticket Prices \n\n\n\nTours start at 11.00am\, 12.15am\, 2.00pm\, 3.15pm and each take approximately one hour. This is your chance to question the tour guides on the engines and their function whilst walking round the whole Beam Engine House\, including the basement\, all whilst one of the engines is running.
URL:https://www.abbeypumpingstation.org/event/steam-with-the-team-5
ATTACH;FMTTYPE=image/jpeg:https://www.abbeypumpingstation.org/wp-content/uploads/2024/03/IMG_4378.jpg
END:VEVENT
BEGIN:VEVENT
DTSTART;TZID=Europe/London:20260407T113000
DTEND;TZID=Europe/London:20260407T160000
DTSTAMP:20260420T084608
CREATED:20260317T144235Z
LAST-MODIFIED:20260317T144236Z
UID:1423-1775561400-1775577600@www.abbeypumpingstation.org
SUMMARY:Holiday Railway Day
DESCRIPTION:Come for a ride on the Narrow-gauge Railway. Peter the Diesel loco will be in charge of the train.  \n\n\n\nThis event is an affordable day out with the children. \n\n\n\nEntrance to the museum is free. Train rides are £1.00 per person\, family ticket (2 adults + 2 children) £3.00\, under 3 yrs travel for free. Get your tickets at the station\, pay with cash or pay by card. \n\n\n\nAt this event Peter will be the engine running on the railway\, make sure you say hello to Peter and even get your photo taken with him! \n\n\n\nThere is a museum themed playground and sand pit for the children with seating located near by. You can sit there with a snack and a drink from the ‘Switch Room’ Cafe\, located in the Beam Engine house. Pay with cash or pay by card. \n\n\n\nThere are also interactive exhibits that both children and adults can use in the Gallery. \n\n\n\nCar Parking is available on the National Space Centre Car Park\, currently £4.00 per vehicle. \n\n\n\nAll Engines and Working Exhibits are subject to availability and safe working.
URL:https://www.abbeypumpingstation.org/event/holiday-railway-day-2
END:VEVENT
BEGIN:VEVENT
DTSTART;TZID=Europe/London:20260517T120000
DTEND;TZID=Europe/London:20260517T163000
DTSTAMP:20260420T084608
CREATED:20260407T142121Z
LAST-MODIFIED:20260407T142122Z
UID:1430-1779019200-1779035400@www.abbeypumpingstation.org
SUMMARY:Emergency Services Day
DESCRIPTION:Come and see Emergency Service vehicles from the past and the present. Try on some firemen’s uniforms for a photo opportunity and have a go with a stirrup pump. \n\n\n\nAdmission Charges apply\, please click here for details \n\n\n\nThe Narrow Gauge Railway will be running\, with Leonard in Steam. There is a small charge for train rides (£1.00 per person)\, children under 3 years are free. Get your ticket at the station\, pay with cash or pay by card.  Family tickets are available ( 2 adults + 2 children) for £3.00. \n\n\n\nThe Switch Room Cafe will be open for light refreshments\, pay with cash or pay by card. \n\n\n\nBring your own picnic and enjoy your day\, our picnic tables are distributed around the grounds. The Museum themed playground and sandpit are nearby. \n\n\n\nCar Parking is available on the National Space Centre Car Park\, currently £4.00 per vehicle. \n\n\n\nAll Engines and Working Exhibits are subject to availability and safe working.
URL:https://www.abbeypumpingstation.org/event/emergency-services-day-3
ATTACH;FMTTYPE=image/jpeg:https://www.abbeypumpingstation.org/wp-content/uploads/2026/04/Emergency-Services-scaled.jpg
END:VEVENT
BEGIN:VEVENT
DTSTART;TZID=Europe/London:20260526T113000
DTEND;TZID=Europe/London:20260526T160000
DTSTAMP:20260420T084608
CREATED:20260407T141921Z
LAST-MODIFIED:20260407T142406Z
UID:1435-1779795000-1779811200@www.abbeypumpingstation.org
SUMMARY:Half Term Railway Day
DESCRIPTION:Entrance to the museum is free. Train rides are £1.00 per person\, under 3 yrs travel for free. Get your ticket at the station\, pay with cash or pay by card.  A Family ticket is available for £3.00\, for 2 adults + 2 children.  \n\n\n\nAt this event Peter the Simplex Diesel will be the engine running on the railway\, make sure you say hello to Peter and even get your photo taken with him!  One of our other IC locos may also be around or even in charge of the train. Come and have a ride! \n\n\n\nThere is a museum themed playground and sand pit for the children with seating located near by.  You can sit there with a snack and a drink from the ‘Switch Room’ Cafe\, located in the Beam Engine house. Pay with cash or pay by card. \n\n\n\nThere are also interactive exhibits that both children and adults can use in the Gallery. \n\n\n\nCar Parking is available on the National Space Centre Car Park\, currently £4.00 per vehicle. \n\n\n\nAll Engines and Working Exhibits are subject to availability and safe working.
URL:https://www.abbeypumpingstation.org/event/half-term-railway-day-8
ATTACH;FMTTYPE=image/jpeg:https://www.abbeypumpingstation.org/wp-content/uploads/2024/04/Diesel-Railway-Photo-2.jpg
END:VEVENT
END:VCALENDAR