BEGIN:VCALENDAR
VERSION:2.0
PRODID:-//Abbey Pumping Station - ECPv6.15.20//NONSGML v1.0//EN
CALSCALE:GREGORIAN
METHOD:PUBLISH
X-ORIGINAL-URL:https://www.abbeypumpingstation.org
X-WR-CALDESC:Events for Abbey Pumping Station
REFRESH-INTERVAL;VALUE=DURATION:PT1H
X-Robots-Tag:noindex
X-PUBLISHED-TTL:PT1H
BEGIN:VTIMEZONE
TZID:Europe/London
BEGIN:DAYLIGHT
TZOFFSETFROM:+0000
TZOFFSETTO:+0100
TZNAME:BST
DTSTART:20240331T010000
END:DAYLIGHT
BEGIN:STANDARD
TZOFFSETFROM:+0100
TZOFFSETTO:+0000
TZNAME:GMT
DTSTART:20241027T010000
END:STANDARD
BEGIN:DAYLIGHT
TZOFFSETFROM:+0000
TZOFFSETTO:+0100
TZNAME:BST
DTSTART:20250330T010000
END:DAYLIGHT
BEGIN:STANDARD
TZOFFSETFROM:+0100
TZOFFSETTO:+0000
TZNAME:GMT
DTSTART:20251026T010000
END:STANDARD
BEGIN:DAYLIGHT
TZOFFSETFROM:+0000
TZOFFSETTO:+0100
TZNAME:BST
DTSTART:20260329T010000
END:DAYLIGHT
BEGIN:STANDARD
TZOFFSETFROM:+0100
TZOFFSETTO:+0000
TZNAME:GMT
DTSTART:20261025T010000
END:STANDARD
END:VTIMEZONE
BEGIN:VEVENT
DTSTART;TZID=Europe/London:20251025T110000
DTEND;TZID=Europe/London:20251025T150000
DTSTAMP:20260420T010336
CREATED:20250914T144901Z
LAST-MODIFIED:20250914T145636Z
UID:1316-1761390000-1761404400@www.abbeypumpingstation.org
SUMMARY:Steam with the Team
DESCRIPTION:Saturday 25th October 2025 \n\n\n\n\n\n\n\nAdmission to museum galleries is free but tours of the Beam Engine House is by ticket only. \n\n\n\n Maximum group size per tour is 20. Recommended for those aged 10 years and above. \n\n\n\nPlease click here for Ticket Prices \n\n\n\nTours start at 11.00am\, 12.15pm\, 2.00pm and 3.15pm and each take approximately one hour. This is your chance to question the tour guides on the engines and their function whilst walking round the whole Beam Engine House\, including the basement\, all whilst one of the engines is running. \n\n\n\nTo book tickets\, please click here
URL:https://www.abbeypumpingstation.org/event/steam-with-the-team-2
ATTACH;FMTTYPE=image/jpeg:https://www.abbeypumpingstation.org/wp-content/uploads/2024/03/IMG_4375.jpg
END:VEVENT
END:VCALENDAR