BEGIN:VCALENDAR
VERSION:2.0
PRODID:-//Abbey Pumping Station - ECPv6.15.20//NONSGML v1.0//EN
CALSCALE:GREGORIAN
METHOD:PUBLISH
X-ORIGINAL-URL:https://www.abbeypumpingstation.org
X-WR-CALDESC:Events for Abbey Pumping Station
REFRESH-INTERVAL;VALUE=DURATION:PT1H
X-Robots-Tag:noindex
X-PUBLISHED-TTL:PT1H
BEGIN:VTIMEZONE
TZID:Europe/London
BEGIN:DAYLIGHT
TZOFFSETFROM:+0000
TZOFFSETTO:+0100
TZNAME:BST
DTSTART:20240331T010000
END:DAYLIGHT
BEGIN:STANDARD
TZOFFSETFROM:+0100
TZOFFSETTO:+0000
TZNAME:GMT
DTSTART:20241027T010000
END:STANDARD
BEGIN:DAYLIGHT
TZOFFSETFROM:+0000
TZOFFSETTO:+0100
TZNAME:BST
DTSTART:20250330T010000
END:DAYLIGHT
BEGIN:STANDARD
TZOFFSETFROM:+0100
TZOFFSETTO:+0000
TZNAME:GMT
DTSTART:20251026T010000
END:STANDARD
BEGIN:DAYLIGHT
TZOFFSETFROM:+0000
TZOFFSETTO:+0100
TZNAME:BST
DTSTART:20260329T010000
END:DAYLIGHT
BEGIN:STANDARD
TZOFFSETFROM:+0100
TZOFFSETTO:+0000
TZNAME:GMT
DTSTART:20261025T010000
END:STANDARD
END:VTIMEZONE
BEGIN:VEVENT
DTSTART;TZID=Europe/London:20250920T110000
DTEND;TZID=Europe/London:20250921T160000
DTSTAMP:20260420T023735
CREATED:20250806T145605Z
LAST-MODIFIED:20250914T145955Z
UID:1275-1758366000-1758470400@www.abbeypumpingstation.org
SUMMARY:Food and Craft Fair
DESCRIPTION:Abbey Pumping Station is hosting the Food and Craft Fair for 2025. There will be over 50 stalls with many food and crafts ideas. The Museum coal-fired chip van will be serving chips and the Narrow-gauge railway will be running. There will be lots of other food-related vehicles also on show at this event. \n\n\n\nThere is a small charge for train rides\, £0.50 per person\, but children under 3 years can travel for free. You can get your ticket at the Station and pay by cash or card\, or at Reception where you can pay by card. \n\n\n\nFor more information\, please click here for details \n\n\n\nPlease note: LMTA Membership cards are not valid for entry to this event
URL:https://www.abbeypumpingstation.org/event/food-and-craft-fair
ATTACH;FMTTYPE=image/jpeg:https://www.abbeypumpingstation.org/wp-content/uploads/2025/08/P1000638-scaled.jpg
END:VEVENT
END:VCALENDAR