BEGIN:VCALENDAR
VERSION:2.0
PRODID:-//Abbey Pumping Station - ECPv6.15.20//NONSGML v1.0//EN
CALSCALE:GREGORIAN
METHOD:PUBLISH
X-WR-CALNAME:Abbey Pumping Station
X-ORIGINAL-URL:https://www.abbeypumpingstation.org
X-WR-CALDESC:Events for Abbey Pumping Station
REFRESH-INTERVAL;VALUE=DURATION:PT1H
X-Robots-Tag:noindex
X-PUBLISHED-TTL:PT1H
BEGIN:VTIMEZONE
TZID:Europe/London
BEGIN:DAYLIGHT
TZOFFSETFROM:+0000
TZOFFSETTO:+0100
TZNAME:BST
DTSTART:20230326T010000
END:DAYLIGHT
BEGIN:STANDARD
TZOFFSETFROM:+0100
TZOFFSETTO:+0000
TZNAME:GMT
DTSTART:20231029T010000
END:STANDARD
BEGIN:DAYLIGHT
TZOFFSETFROM:+0000
TZOFFSETTO:+0100
TZNAME:BST
DTSTART:20240331T010000
END:DAYLIGHT
BEGIN:STANDARD
TZOFFSETFROM:+0100
TZOFFSETTO:+0000
TZNAME:GMT
DTSTART:20241027T010000
END:STANDARD
BEGIN:DAYLIGHT
TZOFFSETFROM:+0000
TZOFFSETTO:+0100
TZNAME:BST
DTSTART:20250330T010000
END:DAYLIGHT
BEGIN:STANDARD
TZOFFSETFROM:+0100
TZOFFSETTO:+0000
TZNAME:GMT
DTSTART:20251026T010000
END:STANDARD
END:VTIMEZONE
BEGIN:VEVENT
DTSTART;TZID=Europe/London:20241201T113000
DTEND;TZID=Europe/London:20241201T160000
DTSTAMP:20260420T181832
CREATED:20240305T160051Z
LAST-MODIFIED:20241105T160219Z
UID:379-1733052600-1733068800@www.abbeypumpingstation.org
SUMMARY:Christmas Steam Day
DESCRIPTION:At the beginning of December we have our traditional Christmas Event. \n\n\n\nAdmission Charges apply\, please click here for details \n\n\n\nCome down and hear the band playing music in the Beam Engine house with one of the beam engines running. \n\n\n\nThe Transport Shed will be full of exhibits\, including the 3-rail layout in the ‘Smiths Bookstall’ from Leicester London Road Station. \n\n\n\nThe site Narrow-gauge steam railway will be running with decorated coaches and Leonard in charge. Train rides are 50p per person\, under 3 years go for free. \n\n\n\nYou can pay for your ride at the Station – cash only\, or you can buy a train ticket at Reception and pay by card. \n\n\n\nThe Café will be open serving light refreshments throughout the event\, in the Switch Room. \n\n\n\nIn the Gallery is a model railway with buildings from around Leicester\, how many can you remember? \n\n\n\nSeveral Museum Vehicles will be displayed around the site. \n\n\n\nCome and see Thomas and friends on the Forget-Me_Not Garden railway at the front of the museum. He will be running with decorated wagons.
URL:https://www.abbeypumpingstation.org/event/christmas-steam-day
ATTACH;FMTTYPE=image/jpeg:https://www.abbeypumpingstation.org/wp-content/uploads/2024/11/Christmas-1.jpg
END:VEVENT
END:VCALENDAR