BEGIN:VCALENDAR
VERSION:2.0
PRODID:-//Abbey Pumping Station - ECPv6.15.20//NONSGML v1.0//EN
CALSCALE:GREGORIAN
METHOD:PUBLISH
X-ORIGINAL-URL:https://www.abbeypumpingstation.org
X-WR-CALDESC:Events for Abbey Pumping Station
REFRESH-INTERVAL;VALUE=DURATION:PT1H
X-Robots-Tag:noindex
X-PUBLISHED-TTL:PT1H
BEGIN:VTIMEZONE
TZID:Europe/London
BEGIN:DAYLIGHT
TZOFFSETFROM:+0000
TZOFFSETTO:+0100
TZNAME:BST
DTSTART:20230326T010000
END:DAYLIGHT
BEGIN:STANDARD
TZOFFSETFROM:+0100
TZOFFSETTO:+0000
TZNAME:GMT
DTSTART:20231029T010000
END:STANDARD
BEGIN:DAYLIGHT
TZOFFSETFROM:+0000
TZOFFSETTO:+0100
TZNAME:BST
DTSTART:20240331T010000
END:DAYLIGHT
BEGIN:STANDARD
TZOFFSETFROM:+0100
TZOFFSETTO:+0000
TZNAME:GMT
DTSTART:20241027T010000
END:STANDARD
BEGIN:DAYLIGHT
TZOFFSETFROM:+0000
TZOFFSETTO:+0100
TZNAME:BST
DTSTART:20250330T010000
END:DAYLIGHT
BEGIN:STANDARD
TZOFFSETFROM:+0100
TZOFFSETTO:+0000
TZNAME:GMT
DTSTART:20251026T010000
END:STANDARD
END:VTIMEZONE
BEGIN:VEVENT
DTSTART;TZID=Europe/London:20241005T113000
DTEND;TZID=Europe/London:20241005T163000
DTSTAMP:20260420T212540
CREATED:20240914T140033Z
LAST-MODIFIED:20240914T144854Z
UID:1050-1728127800-1728145800@www.abbeypumpingstation.org
SUMMARY:Railway Day with Models
DESCRIPTION:Have a wander around and see the models and railway layouts on display. \n\n\n\nEntrance to the museum is free. \n\n\n\nThe Narrow-Gauge Railway will be running\, with Leonard the Steam Loco in charge of the train. There is a small charge for train rides\, (£0.50 per person)\, children under 3 years can travel for free. \n\n\n\nYou can pay for your ride at the Station – cash only\, or you can buy a train ticket at Reception and pay by card. \n\n\n\nThere is a museum themed playground and sand pit for the children\, with seating located near by. You can sit with a snack and drink from the Switch Room Cafe\, located in the Beam Engine House. Cash only.
URL:https://www.abbeypumpingstation.org/event/railway-day-with-models
ATTACH;FMTTYPE=image/jpeg:https://www.abbeypumpingstation.org/wp-content/uploads/2024/09/Modelling.jpg
END:VEVENT
END:VCALENDAR